BEGIN:VCALENDAR
VERSION:2.0
PRODID:-//Cystic Fibrosis Family Connection - ECPv6.15.20//NONSGML v1.0//EN
CALSCALE:GREGORIAN
METHOD:PUBLISH
X-WR-CALNAME:Cystic Fibrosis Family Connection
X-ORIGINAL-URL:https://cffamilyconnection.org
X-WR-CALDESC:Events for Cystic Fibrosis Family Connection
REFRESH-INTERVAL;VALUE=DURATION:PT1H
X-Robots-Tag:noindex
X-PUBLISHED-TTL:PT1H
BEGIN:VTIMEZONE
TZID:America/New_York
BEGIN:DAYLIGHT
TZOFFSETFROM:-0500
TZOFFSETTO:-0400
TZNAME:EDT
DTSTART:20230312T070000
END:DAYLIGHT
BEGIN:STANDARD
TZOFFSETFROM:-0400
TZOFFSETTO:-0500
TZNAME:EST
DTSTART:20231105T060000
END:STANDARD
BEGIN:DAYLIGHT
TZOFFSETFROM:-0500
TZOFFSETTO:-0400
TZNAME:EDT
DTSTART:20240310T070000
END:DAYLIGHT
BEGIN:STANDARD
TZOFFSETFROM:-0400
TZOFFSETTO:-0500
TZNAME:EST
DTSTART:20241103T060000
END:STANDARD
BEGIN:DAYLIGHT
TZOFFSETFROM:-0500
TZOFFSETTO:-0400
TZNAME:EDT
DTSTART:20250309T070000
END:DAYLIGHT
BEGIN:STANDARD
TZOFFSETFROM:-0400
TZOFFSETTO:-0500
TZNAME:EST
DTSTART:20251102T060000
END:STANDARD
END:VTIMEZONE
BEGIN:VEVENT
DTSTART;TZID=America/New_York:20240804T130000
DTEND;TZID=America/New_York:20240804T170000
DTSTAMP:20260422T180005
CREATED:20240422T185059Z
LAST-MODIFIED:20240629T150450Z
UID:11292-1722776400-1722790800@cffamilyconnection.org
SUMMARY:Family Day 2024
DESCRIPTION:August 4\n	  @\n1:00 pm\n	  –\n5:00 pm \nCFFC is pleased to announce the return to Family Day. Please join us with your family and supporters for an afternoon connecting\, learning and having fun with our one-of-a-kind CF community. \nAdmission to Wickham Farms for CFFC Family Day is FREE to everyone associated with the Rochester NY CF Center – individuals living with CF\, their families and supporters\, and CF caregivers. Admission includes: bounce pillow\, corn pit\, lawn games\, playground\, tractor rides\, farm animals\, food and beverages\, and more! \nWe are working to extend our tradition of mixing education with family fun. We plan to set up space for one-on-one conversations with peers from our community on key CF topics. We are also inviting corporate sponsors to discuss their latest products. \nCFFC will follow CFF infection control guidelines. We will provide masks\, hand sanitizers and identification for those who have CF. We have reserved the barn for exclusive use by CFFC to provide a space away from the other visitors. \nTo help us with planning and simplify admission\, we are asking attendees to preregister. Please complete and submit the form below by Monday\, July 29th. Your email address will be used to confirm your registration and provide event updates. \n\n																							 \n\n			 \nDATE: Sunday August 4\, 2024 \nTIME: 1:00PM – 5:00PM \nORGANIZER: Cystic Fibrosis Family Connection \nCOST: FREE! \n\n	\n	Add to calendar	\n		\n	\n \n\n\n	Google Calendar\n\n\n	iCalendar\n\n\n	Outlook 365\n\n\n	Outlook Live\n\n\n\n\n\n\n				Rochester Great Strides 2024	\n\n\n	\n		Living with CF Golf Tournament 2024
URL:https://cffamilyconnection.org/event/family-day-2024/
LOCATION:Wickham Farms\, 1315 Sweets Corners Rd\, Penfield\, NY\, 14526\, United States
CATEGORIES:CFFC
ORGANIZER;CN="Cystic Fibrosis Family Connection":MAILTO:info@cffamilyconnection.org
END:VEVENT
END:VCALENDAR